BEGIN:VCALENDAR
VERSION:2.0
PRODID:-//Luna y Sol Cafe - ECPv6.15.18//NONSGML v1.0//EN
CALSCALE:GREGORIAN
METHOD:PUBLISH
X-ORIGINAL-URL:https://lunaysolcafe.com
X-WR-CALDESC:Events for Luna y Sol Cafe
REFRESH-INTERVAL;VALUE=DURATION:PT1H
X-Robots-Tag:noindex
X-PUBLISHED-TTL:PT1H
BEGIN:VTIMEZONE
TZID:America/Phoenix
BEGIN:STANDARD
TZOFFSETFROM:-0700
TZOFFSETTO:-0700
TZNAME:MST
DTSTART:20230101T000000
END:STANDARD
END:VTIMEZONE
BEGIN:VEVENT
DTSTART;TZID=America/Phoenix:20241025T080000
DTEND;TZID=America/Phoenix:20241025T120000
DTSTAMP:20260423T095252
CREATED:20241003T092359Z
LAST-MODIFIED:20241010T134456Z
UID:10000002-1729843200-1729857600@lunaysolcafe.com
SUMMARY:Reviving Roots at Luna y Sol Cafe
DESCRIPTION:25th Annual Days of Caring with United Way of Tucson and Southern Arizona: Reviving Roots at Luna y Sol Cafe \nJoin us for a special day of community service at the 25th Annual Days of Caring\, hosted by United Way of Tucson and Southern Arizona. This year\, we’ll be reviving the roots of Luna y Sol Cafe\, giving it the care and support it needs to continue being a hub for connection and nourishment. \nEvent Details: \n\nDate: Friday\, October 25th\nTime: 8:00 AM – 12:00 PM\nLocation: Luna y Sol Cafe\n\nThis is your chance to make a difference and contribute to a local cause while connecting with others who share your commitment to helping the Tucson and Southern Arizona communities thrive. Whether you have gardening skills or just a willingness to lend a hand\, your participation will have a lasting impact! \nBe a part of this important community effort and help revive Luna y Sol Cafe! Sign up today and bring your friends along for a fulfilling morning of service. \nRegister Here to Participate! https://x.gldn.io/e/J9GYwyoJGMb 
URL:https://lunaysolcafe.com/event/reviving-roots-at-luna-y-sol-cafe/
LOCATION:Luna & Sol Cafe\, 137 W. 29th Street\, Tucson\, AZ\, United States
ATTACH;FMTTYPE=image/jpeg:https://lunaysolcafe.com/wp-content/uploads/2024/10/d7a0741f9181f2c0fd0f145fb1774243_lg.jpg
END:VEVENT
END:VCALENDAR